BEGIN:VCALENDAR
VERSION:2.0
PRODID:-//wp-events-plugin.com//6.6.4.1//EN
BEGIN:VEVENT
UID:20@healthspiritcenter.com
DTSTART;TZID=America/New_York:20241121T190000
DTEND;TZID=America/New_York:20241121T203000
DTSTAMP:20241017T202027Z
URL:https://www.healthspiritcenter.com/events/3rd-thursday-of-the-month-ho
 w-essential-oils-can-help-you/
SUMMARY:3rd Thursday of the month – How essential oils can help you
DESCRIPTION:\n\n\n\n\n11/21/24 Thursday 7:00 – 8:30 pm Sleep\n\n\n\n\n
END:VEVENT
BEGIN:VTIMEZONE
TZID:America/New_York
X-LIC-LOCATION:America/New_York
BEGIN:STANDARD
DTSTART:20241103T010000
TZOFFSETFROM:-0400
TZOFFSETTO:-0500
TZNAME:EST
END:STANDARD
END:VTIMEZONE
END:VCALENDAR